BEGIN:VCALENDAR
VERSION:2.0
PRODID:icalendar-ruby
CALSCALE:GREGORIAN
METHOD:PUBLISH
BEGIN:VEVENT
DTSTAMP:20260420T054855Z
UID:5-398725@livingwaterchurchfres.com
DTSTART:20260913T173000Z
DTEND:20260913T183000Z
CLASS:PUBLIC
CREATED:20260419T195251
DESCRIPTION:Sunday Worship
LAST-MODIFIED:20260419T195251
LOCATION:
SUMMARY:Sunday Worship
URL;VALUE=URI:https://livingwaterchurchfres.com/events/sunday-worship/2026-
 09-13
END:VEVENT
END:VCALENDAR
