BEGIN:VCALENDAR
VERSION:2.0
PRODID:icalendar-ruby
CALSCALE:GREGORIAN
METHOD:PUBLISH
BEGIN:VEVENT
DTSTAMP:20260422T090732Z
UID:5-402120@livingwaterchurchfres.com
DTSTART:20260927T173000Z
DTEND:20260927T183000Z
CLASS:PUBLIC
CREATED:20260421T173621
DESCRIPTION:Sunday Worship
LAST-MODIFIED:20260421T173621
LOCATION:
SUMMARY:Sunday Worship
URL;VALUE=URI:https://livingwaterchurchfres.com/events/sunday-worship/2026-
 09-27
END:VEVENT
END:VCALENDAR
